BEGIN:VCALENDAR
VERSION:2.0
PRODID:-//CNPEM - ECPv6.15.20//NONSGML v1.0//EN
CALSCALE:GREGORIAN
METHOD:PUBLISH
X-WR-CALNAME:CNPEM
X-ORIGINAL-URL:https://cnpem.br
X-WR-CALDESC:Eventos para CNPEM
REFRESH-INTERVAL;VALUE=DURATION:PT1H
X-Robots-Tag:noindex
X-PUBLISHED-TTL:PT1H
BEGIN:VTIMEZONE
TZID:America/Sao_Paulo
BEGIN:STANDARD
TZOFFSETFROM:-0300
TZOFFSETTO:-0300
TZNAME:-03
DTSTART:20230101T000000
END:STANDARD
END:VTIMEZONE
BEGIN:VEVENT
DTSTART;TZID=America/Sao_Paulo:20240404T010000
DTEND;TZID=America/Sao_Paulo:20240404T180000
DTSTAMP:20260425T170359
CREATED:20240326T120836Z
LAST-MODIFIED:20240426T112232Z
UID:35487-1712192400-1712253600@cnpem.br
SUMMARY:VII CNPEM AFM WORKSHOP e Minicurso Gwyddion
DESCRIPTION:[vc_row][vc_column][vc_column_text css=””] \nPromovido pelo Laboratório Nacional de Nanotecnologia (LNNano) do Centro Nacional de Pesquisa em Energia e Materiais (CNPEM)\, o VII AFM Workshop está agendado para os dias 03 e 04 de julho. Assim como em edições anteriores\, o evento incluirá mais uma edição do Minicurso Gwyddion em sua programação\, que acontecerá no dia seguinte\, 05 de julho. \nA programação do VII CNPEM AFM Workshop & Minicurso Gwyddion tem como objetivo proporcionar uma introdução às técnicas de microscopia de varredura por sonda e suas diferentes aplicações\, bem como oferecer noções básicas de como usar o software Gwyddion para tratamento de imagens de microscopia de força atômica. \nO evento é gratuito e ocorrerá de forma presencial no LNNano\, dentro do campus do CNPEM\, em Campinas-SP. \nPeríodo de inscrição: Inscrições prorrogadas até 06 de maio de 2024 \nPara mais informações\, acesse o site: https://pages.cnpem.br/afmworkshop/ \n— \nPromoted by the Brazilian Nanotechnology National Laboratory (LNNano) of the Brazilian Center for Research in Energy and Materials (CNPEM)\, the VII AFM Workshop is scheduled for July 4th. Just like in previous editions\, the event will include another edition of the Gwyddion Minicourse in its program\, which will take place the following day\, July 5th.   \nThe schedule of the VII CNPEM AFM Workshop & Gwyddion Minicourse aims to provide an introduction to scanning probe microscopy techniques and their various applications\, as well as to offer basic notions on how to use the Gwyddion software for atomic force microscopy image processing.   \nThe event is free and will take place in person at LNNano\, within the CNPEM campus\, in Campinas-SP.   \nRegistration period: Registrations extended until May 6th\, 2024 \nFor more information\, visit the website: https://pages.cnpem.br/afmworkshop/  \n[/vc_column_text][/vc_column][/vc_row]
URL:https://cnpem.br/event/vii-cnpem-afm-workshop-e-minicurso-gwyddion/
LOCATION:Laboratório Nacional de Nanotecnologia (LNNano)
CATEGORIES:CNPEM,LNNano
ATTACH;FMTTYPE=image/png:https://cnpem.br/wp-content/uploads/2024/03/7-AFM-2024-quadrado.png
ORGANIZER;CN="Laborat%C3%B3rio Nacional de Nanotecnologia (LNNano)":MAILTO:lnnanocomunica@cnpem.br
END:VEVENT
END:VCALENDAR