BEGIN:VCALENDAR
VERSION:2.0
PRODID:-//CNPEM - ECPv6.15.20//NONSGML v1.0//EN
CALSCALE:GREGORIAN
METHOD:PUBLISH
X-ORIGINAL-URL:https://cnpem.br/en/
X-WR-CALDESC:Events for CNPEM
REFRESH-INTERVAL;VALUE=DURATION:PT1H
X-Robots-Tag:noindex
X-PUBLISHED-TTL:PT1H
BEGIN:VTIMEZONE
TZID:America/Sao_Paulo
BEGIN:STANDARD
TZOFFSETFROM:-0300
TZOFFSETTO:-0300
TZNAME:-03
DTSTART:20250101T000000
END:STANDARD
END:VTIMEZONE
BEGIN:VEVENT
DTSTART;VALUE=DATE:20260511
DTEND;VALUE=DATE:20260517
DTSTAMP:20260424T111418
CREATED:20260213T174958Z
LAST-MODIFIED:20260213T174958Z
UID:64455-1778461200-1778893199@cnpem.br
SUMMARY:Training and Capacity Building Program in BSL-3 Laboratory
DESCRIPTION:Even before the inauguration of the Orion project\, the National Research Center for Energy and Materials (CNPEM) is conducting a Training and Capacity Building Program in high and maximum biological containment infrastructures\, unprecedented in Brazil. Aimed at developing human resources in competencies that are still underdeveloped in Brazil and other Latin American countries\, this initiative seeks to support the training of potential future Orion users and to enhance the qualifications of teams already engaged in research and development involving pathogens. \nThe Program includes theoretical activities and practical sessions carried out in a training laboratory — a mock-up space that faithfully replicates the real facilities of a maximum biological containment (BSL-4) laboratory — already available on the CNPEM campus. In this simulation environment\, researchers in training can practice safety protocols without handling infectious materials or facing any risk of exposure\, under the supervision of professionals dedicated to conducting individual assessments of biosafety procedures. \nRegistration opens on February 13\, 2026. \nFor more information\, visit the program’s website.
URL:https://cnpem.br/en/event/training-and-capacity-building-program-in-bsl-3-laboratory-5/
LOCATION:Campus CNPEM\, R. Giuseppe Máximo Scolfaro\, 10000\, Campinas\, 13083-970
CATEGORIES:CNPEM
ATTACH;FMTTYPE=image/png:https://cnpem.br/wp-content/uploads/2025/11/Imagem-destaque-home_eventos-NB3.png
END:VEVENT
BEGIN:VEVENT
DTSTART;TZID=America/Sao_Paulo:20260512T080000
DTEND;TZID=America/Sao_Paulo:20260515T170000
DTSTAMP:20260424T111418
CREATED:20260302T114318Z
LAST-MODIFIED:20260302T114444Z
UID:64490-1778572800-1778864400@cnpem.br
SUMMARY:Biorrenováveis – Cursos - Curso de Caracterização de Biomassas
DESCRIPTION:[vc_row][vc_column][vc_column_text] \nO Curso de Caracterização de Biomassas\, integrante da série Biorrenováveis – Cursos\, é uma iniciativa que reúne atividades teóricas e práticas\, abordando os principais fundamentos conceituais e metodológicos aplicados à análise de biomassas lignocelulósicas. Realizado desde 2011\, nesta edição o curso conta com carga horária de 30 horas e será ministrado em grupos reduzidos\, assegurando maior qualidade no processo de aprendizagem. \nOs conteúdos abrangem desde aspectos estruturais e composicionais da biomassa lignocelulósica\, como extrativos\, cinzas\, celulose\, hemiceluloses e lignina\, até a aplicação de técnicas analíticas avançadas\, incluindo ressonância magnética nuclear (RMN) de lignina\, cromatografia líquida de alta eficiência\, espectrofotometria\, gravimetria e balanço de massa composicional. \nConfira os detalhes e a programação no site oficial do evento.[/vc_column_text][/vc_column][/vc_row]
URL:https://cnpem.br/en/event/curso-caracterizacao-biomassas/
CATEGORIES:CNPEM,LNBio,LNBR
ATTACH;FMTTYPE=image/webp:https://cnpem.br/wp-content/uploads/2026/03/Img_Home-CNPEM_760x254-scaled.webp
END:VEVENT
BEGIN:VEVENT
DTSTART;TZID=America/Sao_Paulo:20260529T090000
DTEND;TZID=America/Sao_Paulo:20260530T170000
DTSTAMP:20260424T111418
CREATED:20260302T120348Z
LAST-MODIFIED:20260303T133258Z
UID:64494-1780045200-1780160400@cnpem.br
SUMMARY:Ciência Aberta 2026
DESCRIPTION:[vc_row][vc_column][vc_column_text css=””] \nJá imaginou visitar um dos centros de pesquisa mais avançados do Brasil\, conhecer laboratórios de última geração\, ver de perto o Sirius\, o acelerador de partículas brasileiro\, e descobrir como a ciência está presente em nosso cotidiano? \nNos dias 29 e 30 de maio de 2026\, o campus do Centro Nacional de Pesquisa em Energia e Materiais (CNPEM)\, em Campinas (SP)\, abrirá novamente suas portas ao público durante o Ciência Aberta 2026\, que neste ano traz uma novidade importante: a visita ao campus no sábado exigirá a emissão prévia de ingresso gratuito. \nAssim como nas edições mais recentes\, o Ciência Aberta 2026 acontecerá em dois dias\, com formatos diferentes: \n\nSexta-feira\, 29 de maio: dedicada exclusivamente a excursões de grupos estudantis\, mediante pré-cadastro obrigatório a partir de 2 de março;\n\nNa sexta-feira\, os grupos estudantis poderão acessar o campus entre 9h e 12h. A saída ocorrerá às 15h.\n\n\nSábado\, 30 de maio: aberto ao público geral\, mediante emissão de ingressos a partir de 1 de abril;\n\nNo sábado\, os portões estarão abertos entre 9h e 15h\, com encerramento do evento às 17h.\n\n\n\nConsulte mais informações sobre inscrições na página dedicada à jornada dos visitantes. \n[/vc_column_text][/vc_column][/vc_row]
URL:https://cnpem.br/en/event/ciencia-aberta-2026/
LOCATION:Campus CNPEM\, R. Giuseppe Máximo Scolfaro\, 10000\, Campinas\, 13083-970
CATEGORIES:CNPEM
ATTACH;FMTTYPE=image/jpeg:https://cnpem.br/wp-content/uploads/2026/03/Ciencia-Aberta-2026-scaled.jpg
END:VEVENT
END:VCALENDAR