BEGIN:VCALENDAR
VERSION:2.0
PRODID:-//CNPEM - ECPv6.15.20//NONSGML v1.0//EN
CALSCALE:GREGORIAN
METHOD:PUBLISH
X-ORIGINAL-URL:https://cnpem.br/en/
X-WR-CALDESC:Events for CNPEM
REFRESH-INTERVAL;VALUE=DURATION:PT1H
X-Robots-Tag:noindex
X-PUBLISHED-TTL:PT1H
BEGIN:VTIMEZONE
TZID:America/Sao_Paulo
BEGIN:STANDARD
TZOFFSETFROM:-0300
TZOFFSETTO:-0300
TZNAME:-03
DTSTART:20230101T000000
END:STANDARD
END:VTIMEZONE
BEGIN:VEVENT
DTSTART;VALUE=DATE:20241210
DTEND;VALUE=DATE:20241212
DTSTAMP:20260424T085500
CREATED:20241002T140156Z
LAST-MODIFIED:20241002T140305Z
UID:58298-1733792400-1733878799@cnpem.br
SUMMARY:Minicurso Gwyddion
DESCRIPTION:Em 2024\, o CNPEM promove três edições do Minicurso Gwyddion para Tratamento de Imagens de AFM. Tradicionalmente oferecido como parte da programação do AFM Workshop\, este ano\, além da edição realizada durante o evento\, estão sendo oferecidas duas edições extras e avulsas do minicurso: a primeira\, realizada em 22 de março de 2024\, e a segunda\, que ocorrerá em 10 de dezembro de 2024. Todas as edições são gratuitas\, presenciais e oferecem o mesmo conteúdo programático. \nO minicurso é recomendado para usuários de Microscopia de Força Atômica que desejam aprender sobre o Gwyddion\, um software gratuito para tratamento de imagens AFM. As aulas serão ministradas no Laboratório Nacional de Nanotecnologia (LNNano)\, localizado no campus do CNPEM. Ex-participantes do CNPEM AFM Workshop também podem se inscrever. \nPrazo de inscrição: 1 a 21 de outubro de 2024 \nAcesse o site para mais informações e inscrições!
URL:https://cnpem.br/en/event/minicurso-gwyddion/
LOCATION:Laboratório Nacional de Nanotecnologia (LNNano)
CATEGORIES:CNPEM,LNNano
ATTACH;FMTTYPE=image/png:https://cnpem.br/wp-content/uploads/2024/10/Minicurso-Gwyddion_square-min-1.png
ORGANIZER;CN="Laborat%C3%B3rio Nacional de Nanotecnologia (LNNano)":MAILTO:lnnanocomunica@cnpem.br
END:VEVENT
END:VCALENDAR