BEGIN:VCALENDAR
VERSION:2.0
PRODID:-//CNPEM - ECPv6.15.20//NONSGML v1.0//EN
CALSCALE:GREGORIAN
METHOD:PUBLISH
X-WR-CALNAME:CNPEM
X-ORIGINAL-URL:https://cnpem.br/en/
X-WR-CALDESC:Events for CNPEM
REFRESH-INTERVAL;VALUE=DURATION:PT1H
X-Robots-Tag:noindex
X-PUBLISHED-TTL:PT1H
BEGIN:VTIMEZONE
TZID:America/Sao_Paulo
BEGIN:STANDARD
TZOFFSETFROM:-0300
TZOFFSETTO:-0300
TZNAME:-03
DTSTART:20230101T000000
END:STANDARD
END:VTIMEZONE
BEGIN:VTIMEZONE
TZID:America/Sao_Paulo
BEGIN:STANDARD
TZOFFSETFROM:-0300
TZOFFSETTO:-0300
TZNAME:-03
DTSTART:20230101T000000
END:STANDARD
END:VTIMEZONE
BEGIN:VEVENT
DTSTART;TZID=America/Sao_Paulo:20240516T080000
DTEND;TZID=America/Sao_Paulo:20240516T180000
DTSTAMP:20260424T061501
CREATED:20240313T122559Z
LAST-MODIFIED:20240313T122944Z
UID:35422-1715846400-1715882400@cnpem.br
SUMMARY:VI IBSB - Biodiversity accelerating the transition to a sustainable bioeconomy
DESCRIPTION:[vc_row][vc_column][vc_column_text] \nA sexta edição do IBSB Workshop – Biodiversity accelerating the transition to a sustainable bioeconomy – reunirá pesquisadores do CNPEM/LNBR e INPA\, em parceria com pesquisadores da Suécia\, para discutir como a Biodiversidade\, juntamente com a biologia sintética e a Biocatálise\, podem acelerar o desenvolvimento e a transição para uma bioeconomia circular e sustentável. O evento será realizado no Instituto Nacional de Pesquisas da Amazônia (INPA). \nEsse workshop faz parte de uma rede de colaboração entre pesquisadores do LNBR\, INPA e Chalmers University of Technology com o objetivo de consolidar essa rede internacional e promover novas colaborações entre pesquisadores do Brasil e da Suécia. Saiba mais. \n— \nThe sixth edition of the IBSB Workshop – Biodiversity accelerating the transition to a sustainable bioeconomy – will gather researchers from the Brazilian institutions CNPEM/LNBR and INPA along with Sweden researchers to discuss how Biodiversity along with SynBio and Biocatalysis can accelerate the development and the transition to a circular and sustainable bioeconomy. This event will be held at the National Institute for Amazonian Research (INPA). \nThis workshop is part of a collaborative network between researchers at LNBR\, INPA\, and Chalmers University of Technology aiming to consolidate this international network and fostering new collaborations between researchers from Brazil and Sweden. Learn more. \n[/vc_column_text][/vc_column][/vc_row]
URL:https://cnpem.br/en/event/vi-ibsb/
LOCATION:INPA\, Av. André Araújo\, 2936 – Petrópolis\, Manaus\, Amazônia\, 69067-375\, Brasil
CATEGORIES:CNPEM,LNBR
ATTACH;FMTTYPE=image/png:https://cnpem.br/wp-content/uploads/2024/03/6-IBSB-evento.png
END:VEVENT
BEGIN:VEVENT
DTSTART;TZID=America/Sao_Paulo:20240522T083000
DTEND;TZID=America/Sao_Paulo:20240524T160000
DTSTAMP:20260424T061501
CREATED:20240220T135601Z
LAST-MODIFIED:20240227T110859Z
UID:35293-1716366600-1716566400@cnpem.br
SUMMARY:I Curso de Espectroscopia de Fotoelétrons
DESCRIPTION:O Laboratório Nacional de Nanotecnologia (LNNano) do Centro Nacional de Pesquisa em Energia e Materiais (CNPEM) realizará a primeira edição do curso em Espectroscopia de Fotoelétrons Excitados por Raios X (XPS) e Ultravioleta (UPS) de 22 a 24 de maio de 2024\, no auditório do LNNano\, localizado no campus do CNPEM\, em Campinas-SP. \nO objetivo do evento é fornecer uma introdução às técnicas de espectroscopia de fotoemissão (XPS e UPS) e destacar as capacidades dos equipamentos disponíveis no LNNano. A programação é composta tanto por aulas expositivas quanto práticas\, oferecendo treinamento nos principais softwares de análise de dados\, oportunidades para apresentações de pôsteres e visitas guiadas ao Sirius e às instalações do laboratório. \nO curso é aberto à participação de estudantes de pós-graduação\, pesquisadores\, técnicos e profissionais interessados em pesquisa\, ensino e inovação. \n— \nThe Brazilian Nanotechnology Laboratory (LNNano) of the Brazilian Center for Research in Energy and Materials (CNPEM) will hold the first edition of the X-ray Photoelectron Spectroscopy (XPS) and Ultraviolet Photoelectron Spectroscopy (UPS) course from May 22nd to 24th\, 2024\, at the LNNano auditorium\, located on the CNPEM campus in Campinas-SP. \nThe event aims to introduce XPS and UPS spectroscopy techniques and highlight the equipment’s capabilities available at LNNano. The program consists of both lectures and practical sessions\, offering training in major data analysis software\, opportunities for poster presentations\, and guided tours of the Sirius and laboratory facilities. \nThe course is open to postgraduate students\, researchers\, technicians\, and professionals interested in research\, teaching\, and innovation.
URL:https://cnpem.br/en/event/i-curso-de-espectroscopia-de-fotoeletrons/
LOCATION:Laboratório Nacional de Nanotecnologia (LNNano)
CATEGORIES:CNPEM,LNNano
ATTACH;FMTTYPE=image/png:https://cnpem.br/wp-content/uploads/2024/02/LNNANO-_-I-Curso-em-Espectroscopia-I-Curso-de-Espectroscopia-de-Fotoeletrons.png
ORGANIZER;CN="Laborat%C3%B3rio Nacional de Nanotecnologia (LNNano)":MAILTO:lnnanocomunica@cnpem.br
END:VEVENT
END:VCALENDAR