BEGIN:VCALENDAR
VERSION:2.0
PRODID:-//CNPEM - ECPv6.15.20//NONSGML v1.0//EN
CALSCALE:GREGORIAN
METHOD:PUBLISH
X-WR-CALNAME:CNPEM
X-ORIGINAL-URL:https://cnpem.br/en/
X-WR-CALDESC:Events for CNPEM
REFRESH-INTERVAL;VALUE=DURATION:PT1H
X-Robots-Tag:noindex
X-PUBLISHED-TTL:PT1H
BEGIN:VTIMEZONE
TZID:America/Sao_Paulo
BEGIN:STANDARD
TZOFFSETFROM:-0300
TZOFFSETTO:-0300
TZNAME:-03
DTSTART:20250101T000000
END:STANDARD
END:VTIMEZONE
BEGIN:VEVENT
DTSTART;TZID=America/Sao_Paulo:20260323T080000
DTEND;TZID=America/Sao_Paulo:20260325T170000
DTSTAMP:20260423T080935
CREATED:20260126T162739Z
LAST-MODIFIED:20260226T122853Z
UID:64340-1774252800-1774458000@cnpem.br
SUMMARY:Biorrenováveis - II Escola Itinerante - A biodiversidade brasileira guiando iniciativas nacionais em biologia sintética
DESCRIPTION:[vc_row][vc_column][vc_column_text css=””] \nA segunda edição da escola itinerante terá como tema “A biodiversidade brasileira guiando iniciativas nacionais em biologia sintética”\, destacando o potencial dos recursos naturais do país como base para o desenvolvimento de estratégias científicas inovadoras. \nO evento será realizado de 23 a 25 de março de 2026\, no Recife (PE)\, promovido pelo Centro Nacional de Pesquisa em Energia e Materiais (CNPEM) em parceria com a Universidade Federal de Pernambuco (UFPE). \nVoltada a pesquisadores e pós-graduandos\, a escola tem como foco discutir de que forma a biodiversidade brasileira pode inspirar e orientar a criação de soluções em biotecnologia e biologia sintética voltadas à bioeconomia. \nA programação abordará temas do cotidiano do Laboratório Nacional de Biorrenováveis (LNBR) do CNPEM\, incluindo crescimento e monitoramento celular\, biofísica de macromoléculas\, sequenciamento de alto desempenho\, ciências ômicas e outras abordagens para compreensão e engenharia de sistemas biológicos. \nConfira mais detalhes e a programação completa no site oficial do evento – e inscreva-se. \n[/vc_column_text][/vc_column][/vc_row]
URL:https://cnpem.br/en/event/biorrenovaveis-escola-itinerante/
CATEGORIES:CNPEM,LNBR
ATTACH;FMTTYPE=image/png:https://cnpem.br/wp-content/uploads/2026/01/Destaque-Home.png
END:VEVENT
END:VCALENDAR