BEGIN:VCALENDAR
VERSION:2.0
PRODID:-//CNPEM - ECPv6.15.20//NONSGML v1.0//EN
CALSCALE:GREGORIAN
METHOD:PUBLISH
X-WR-CALNAME:CNPEM
X-ORIGINAL-URL:https://cnpem.br/en/
X-WR-CALDESC:Events for CNPEM
REFRESH-INTERVAL;VALUE=DURATION:PT1H
X-Robots-Tag:noindex
X-PUBLISHED-TTL:PT1H
BEGIN:VTIMEZONE
TZID:America/Sao_Paulo
BEGIN:STANDARD
TZOFFSETFROM:-0300
TZOFFSETTO:-0300
TZNAME:-03
DTSTART:20250101T000000
END:STANDARD
END:VTIMEZONE
BEGIN:VEVENT
DTSTART;VALUE=DATE:20260107
DTEND;VALUE=DATE:20260301
DTSTAMP:20260425T112120
CREATED:20250808T165357Z
LAST-MODIFIED:20250808T165735Z
UID:62090-1767747600-1772240399@cnpem.br
SUMMARY:33º Programa Bolsas de Verão
DESCRIPTION:O Centro Nacional de Pesquisa em Energia e Materiais (CNPEM) abriu inscrições para a 33ª edição do Programa Bolsas de Verão (PBV)\, iniciativa que capacita jovens universitários da América Latina e do Caribe desde 1992. O programa é destinado a estudantes de graduação das ciências exatas\, biológicas\, da terra\, da saúde\, além de engenharias e tecnologias\, e já acolheu mais de 490 participantes ao longo de suas edições. \nAs inscrições são gratuitas de 8 de agosto a 8 de setembro de 2025\, exclusivamente pelo site Programa Bolsas de Verão | PBV33. O resultado da seleção será divulgado em 3 de outubro\, e o programa acontecerá entre 7 de janeiro e 27 de fevereiro de 2026. \nO PBV oferece uma experiência imersiva em um dos mais importantes centros de pesquisa do Brasil\, conectando estudantes com as fronteiras do conhecimento em diversas áreas. Os projetos desenvolvidos ao longo do PBV serão elaborados por equipes de pesquisadores e especialistas do CNPEM\, com abordagens multidisciplinares e interdisciplinares. \nPara saber mais\, acesse\nhttps://pages.cnpem.br/bolsasdeverao/ \nInscrições: de 08/08 a 08/09/2025\nDivulgação dos selecionados: a partir de 3/10/2025\nRealização do PBV33: 7/01 a 27/02/2026
URL:https://cnpem.br/en/event/33o-programa-bolsas-de-verao/
LOCATION:Campus CNPEM\, R. Giuseppe Máximo Scolfaro\, 10000\, Campinas\, 13083-970
CATEGORIES:CNPEM
ATTACH;FMTTYPE=image/png:https://cnpem.br/wp-content/uploads/2025/08/quadrado_.png
END:VEVENT
END:VCALENDAR